BEGIN:VCALENDAR
VERSION:2.0
PRODID:-//217.160.0.161//NONSGML kigkonsult.se iCalcreator 2.20//
CALSCALE:GREGORIAN
METHOD:PUBLISH
X-WR-TIMEZONE:UTC
BEGIN:VEVENT
UID:event311@Your Joomla! Site
DTSTAMP:20260419T121230Z
CATEGORIES:Vereinsaktionen
DESCRIPTION:Training nur bis 21:00 Uhr\nKategorie: Vereinsaktionen\nICS-Lin
 k: https://www.nbav.net/index.php?option=com_jem&view=event&id=311:trainin
 g-nur-bis-21-00-uhr\n
DTSTART;VALUE=DATE:20231103
DTEND;VALUE=DATE:20231104
LOCATION:Stadthalle Neuenstadt\,Öhringer Str. 6\,74196 Neuenstadt am Kocher
SUMMARY:Training nur bis 21:00 Uhr
URL:https://www.nbav.net/index.php?option=com_jem&view=event&id=311:trainin
 g-nur-bis-21-00-uhr
END:VEVENT
END:VCALENDAR