BEGIN:VCALENDAR
VERSION:2.0
PRODID:-//217.160.0.161//NONSGML kigkonsult.se iCalcreator 2.20//
CALSCALE:GREGORIAN
METHOD:PUBLISH
X-WR-TIMEZONE:UTC
BEGIN:VEVENT
UID:event324@Your Joomla! Site
DTSTAMP:20260419T222403Z
CATEGORIES:Platzsperrung
DESCRIPTION:Kein Hallentraining möglich\nKategorie: Platzsperrung\nICS-Link
 : https://www.nbav.net/index.php?option=com_jem&view=event&id=324:kein-hal
 lentraining-moeglich\n
DTSTART;VALUE=DATE:20241122
DTEND;VALUE=DATE:20241123
LOCATION:Stadthalle Neuenstadt\,Öhringer Str. 6\,74196 Neuenstadt am Kocher
SUMMARY:Kein Hallentraining möglich
URL:https://www.nbav.net/index.php?option=com_jem&view=event&id=324:kein-ha
 llentraining-moeglich
END:VEVENT
END:VCALENDAR