BEGIN:VCALENDAR
VERSION:2.0
PRODID:-//217.160.0.161//NONSGML kigkonsult.se iCalcreator 2.20//
CALSCALE:GREGORIAN
METHOD:PUBLISH
X-WR-TIMEZONE:UTC
BEGIN:VEVENT
UID:event333@Your Joomla! Site
DTSTAMP:20260419T124226Z
CATEGORIES:Platzsperrung
DESCRIPTION:Platzaufbau für Liga Schießen\nKategorie: Platzsperrung\nICS-Li
 nk: https://www.nbav.net/index.php?option=com_jem&view=event&id=333:platza
 ufbau-fuer-liga-schiessen\n
DTSTART;VALUE=DATE:20250704
DTEND;VALUE=DATE:20250705
LOCATION:Bogenplatz NBAV\,Graf-von-Düren-Straße\,74196 Neuenstadt am Kocher
SUMMARY:Platzaufbau für Liga Schießen
URL:https://www.nbav.net/index.php?option=com_jem&view=event&id=333:platzau
 fbau-fuer-liga-schiessen
END:VEVENT
END:VCALENDAR