BEGIN:VCALENDAR
VERSION:2.0
PRODID:-//217.160.0.161//NONSGML kigkonsult.se iCalcreator 2.20//
CALSCALE:GREGORIAN
METHOD:PUBLISH
X-WR-TIMEZONE:UTC
BEGIN:VEVENT
UID:event363@Your Joomla! Site
DTSTAMP:20260424T034837Z
CATEGORIES:Meisterschaften
DESCRIPTION:Kreismeisterschaft Freien\nKategorie: Meisterschaften\nICS-Link
 : https://www.nbav.net/index.php?option=com_jem&view=event&id=363:kreismei
 sterschaft-freien\n
DTSTART:20260516T091500Z
DTEND:20260516T140000Z
LOCATION:Bogengelände Weinsberg\,Hasenmühlweg\,74189 Weinsberg
SUMMARY:Kreismeisterschaft Freien
URL:https://www.nbav.net/index.php?option=com_jem&view=event&id=363:kreisme
 isterschaft-freien
END:VEVENT
END:VCALENDAR